BEGIN:VCALENDAR
VERSION:2.0
PRODID:-//ChamberMaster//Event Calendar 2.0//EN
METHOD:PUBLISH
X-PUBLISHED-TTL:P3D
REFRESH-INTERVAL:P3D
CALSCALE:GREGORIAN
BEGIN:VEVENT
DTSTART:20161020T213000Z
DTEND:20161020T233000Z
X-MICROSOFT-CDO-ALLDAYEVENT:FALSE
SUMMARY:After Hours
DESCRIPTION:Celebrate After Hours with the Greater Hammond Chamber at RE/MAX Select!
X-ALT-DESC;FMTTYPE=text/html:<span style="font-size: 14px\;"><span style="font-family: arial\;">Celebrate After Hours with the Greater Hammond Chamber at RE/MAX Select! &nbsp\;</span></span>
LOCATION:RE/MAX Select 1402 South Magnolia St.\, Suite B Hammond
UID:e.1729.1246
SEQUENCE:3
DTSTAMP:20260425T174047Z
URL:https://business.tangipahoachamber.org/events/details/after-hours-10-20-2016-1246
END:VEVENT

END:VCALENDAR
