BEGIN:VCALENDAR
VERSION:2.0
PRODID:-//ChamberMaster//Event Calendar 2.0//EN
METHOD:PUBLISH
X-PUBLISHED-TTL:P3D
REFRESH-INTERVAL:P3D
CALSCALE:GREGORIAN
BEGIN:VEVENT
DTSTART:20150917T220000Z
DTEND:20150918T000000Z
X-MICROSOFT-CDO-ALLDAYEVENT:FALSE
SUMMARY:After Hours
DESCRIPTION:After Hours\n\nSponsored by Louisiana Federal Credit Union
X-ALT-DESC;FMTTYPE=text/html:After Hours<br />\nSponsored by Louisiana Federal Credit Union
LOCATION:Louisiana Federal Credit Union 42162 Veterans Avenue\, Hammond\, LA 70403
UID:e.1729.908
SEQUENCE:3
DTSTAMP:20260420T135803Z
URL:https://business.tangipahoachamber.org/events/details/after-hours-09-17-2015-908
END:VEVENT

END:VCALENDAR
