BEGIN:VCALENDAR
VERSION:2.0
PRODID:-//ChamberMaster//Event Calendar 2.0//EN
METHOD:PUBLISH
X-PUBLISHED-TTL:P3D
REFRESH-INTERVAL:P3D
CALSCALE:GREGORIAN
BEGIN:VEVENT
DTSTART:20160825T213000Z
DTEND:20160825T233000Z
X-MICROSOFT-CDO-ALLDAYEVENT:FALSE
SUMMARY:After Hours
DESCRIPTION:Look for more info coming soon about a special After Hours in the Victory Club and Suites as Southeastern.  Lion Up Greater Hammond Chamber!
X-ALT-DESC;FMTTYPE=text/html:Look for more info coming soon about a special After Hours in the Victory Club and Suites as Southeastern.&nbsp\;&nbsp\;Lion Up Greater Hammond Chamber!
LOCATION:Strawberry Stadium Victory Club and Suites
UID:e.1729.1219
SEQUENCE:3
DTSTAMP:20260419T135113Z
URL:https://business.tangipahoachamber.org/events/details/after-hours-08-25-2016-1219
END:VEVENT

END:VCALENDAR
