BEGIN:VCALENDAR
VERSION:2.0
PRODID:-//ChamberMaster//Event Calendar 2.0//EN
METHOD:PUBLISH
X-PUBLISHED-TTL:P3D
REFRESH-INTERVAL:P3D
CALSCALE:GREGORIAN
BEGIN:VEVENT
DTSTART:20150820T220000Z
DTEND:20150821T000000Z
X-MICROSOFT-CDO-ALLDAYEVENT:FALSE
SUMMARY:After Hours
DESCRIPTION:After Hours\n\nSponsored by Alack Culinary Equipment and Supplies
X-ALT-DESC;FMTTYPE=text/html:After Hours<br />\nSponsored by Alack Culinary Equipment and Supplies
LOCATION:17420 US-190 Hammond\, LA
UID:e.1729.903
SEQUENCE:3
DTSTAMP:20260420T154859Z
URL:https://business.tangipahoachamber.org/events/details/after-hours-08-20-2015-903
END:VEVENT

END:VCALENDAR
