BEGIN:VCALENDAR
VERSION:2.0
PRODID:-//ChamberMaster//Event Calendar 2.0//EN
METHOD:PUBLISH
X-PUBLISHED-TTL:P3D
REFRESH-INTERVAL:P3D
CALSCALE:GREGORIAN
BEGIN:VEVENT
DTSTART:20160317T213000Z
DTEND:20160317T233000Z
X-MICROSOFT-CDO-ALLDAYEVENT:FALSE
SUMMARY:After Hours
DESCRIPTION:The Louisiana Children's Discovery Center will be hosting our March After Hours event! You won't want to miss this fun event!
X-ALT-DESC;FMTTYPE=text/html:The Louisiana Children&#39\;s Discovery Center will be hosting our March After Hours event! You won&#39\;t want to miss this fun event!
LOCATION:Louisiana Children's Discovery Center 113 N. Cypress Street\, Hammond
UID:e.1729.1175
SEQUENCE:3
DTSTAMP:20260421T233212Z
URL:https://business.tangipahoachamber.org/events/details/after-hours-03-17-2016-1175
END:VEVENT

END:VCALENDAR
