BEGIN:VCALENDAR
VERSION:2.0
PRODID:-//ChamberMaster//Event Calendar 2.0//EN
METHOD:PUBLISH
X-PUBLISHED-TTL:P3D
REFRESH-INTERVAL:P3D
CALSCALE:GREGORIAN
BEGIN:VEVENT
DTSTART:20160219T223000Z
DTEND:20160220T003000Z
X-MICROSOFT-CDO-ALLDAYEVENT:FALSE
SUMMARY:After Hours
DESCRIPTION:Look for more info coming soon about a special Friday Night After Hours at Southeastern.  We will watch the opening baseball game from the top of the parking garage!  Lion Up Greater Hammond Chamber!
X-ALT-DESC;FMTTYPE=text/html:Look for more info coming soon about a special Friday Night After Hours at Southeastern. &nbsp\;We will watch the opening baseball game from the top of the parking garage! &nbsp\;Lion Up Greater Hammond Chamber!
LOCATION:Southeastern Parking Garage Top Floor!
UID:e.1729.1153
SEQUENCE:3
DTSTAMP:20260421T075254Z
URL:https://business.tangipahoachamber.org/events/details/after-hours-02-19-2016-1153
END:VEVENT

END:VCALENDAR
