BEGIN:VCALENDAR
VERSION:2.0
PRODID:-//ChamberMaster//Event Calendar 2.0//EN
METHOD:PUBLISH
X-PUBLISHED-TTL:P3D
REFRESH-INTERVAL:P3D
CALSCALE:GREGORIAN
BEGIN:VEVENT
DTSTART:20160121T223000Z
DTEND:20160122T003000Z
X-MICROSOFT-CDO-ALLDAYEVENT:FALSE
SUMMARY:After Hours
DESCRIPTION:Join us for our January After Hours sponsored by First Guaranty Bank!  Special guest\, Krewe of Omega\, will be with us celebrating 30 years of parading in Hammond.
X-ALT-DESC;FMTTYPE=text/html:Join us for our January After Hours sponsored by First Guaranty Bank!&nbsp\; Special guest\, Krewe of Omega\, will be with us celebrating 30 years of parading in Hammond.
LOCATION:First Guaranty Bank 400 East Thomas Street Hammond\, LA
UID:e.1729.1146
SEQUENCE:3
DTSTAMP:20260421T231836Z
URL:https://business.tangipahoachamber.org/events/details/after-hours-01-21-2016-1146
END:VEVENT

END:VCALENDAR
