BEGIN:VCALENDAR
VERSION:2.0
PRODID:-//ChamberMaster//Event Calendar 2.0//EN
METHOD:PUBLISH
X-PUBLISHED-TTL:P3D
REFRESH-INTERVAL:P3D
CALSCALE:GREGORIAN
BEGIN:VEVENT
DTSTART:20151008T213000Z
DTEND:20151009T003000Z
X-MICROSOFT-CDO-ALLDAYEVENT:FALSE
SUMMARY:2nd Annual Health & Fitness Expo
DESCRIPTION:This event is free and open to the public. Come check out the Expo and visit with many of the health and fitness related businesses from the Tangipahoa region! A packet pick-up station will also be located at the Expo for runners in the Corporate Cup Run on the Saturday following this event. \n\n\n\nWe encourage local health and fitness businesses to sponsor booths in order to showcase their products and services to the community. Sponsorship information and forms are available on the right of this page.
X-ALT-DESC;FMTTYPE=text/html:This event is free and open to the public. Come<span style="color: rgb(76\, 76\, 76)\; font-family: 'Helvetica Neue'\, Helvetica\, Arial\, sans-serif\; font-size: 14px\; line-height: 18.2000007629395px\;">&nbsp\;check out the Expo and visit with many of the health and fitness related businesses from the Tangipahoa region! A packet pick-up station will also be located at the Expo for runners in the&nbsp\;</span><a href="http://business.hammondchamber.org/events/details/hammond-corporate-cup-452" style="box-sizing: content-box\; color: rgb(0\, 20\, 106)\; text-decoration: none\; -webkit-transition: all 0.2s ease-out\; transition: all 0.2s ease-out\; bottom: auto\; clear: none\; content: normal\; direction: inherit\; display: inline\; empty-cells: show\; float: none\; font-family: 'Helvetica Neue'\, Helvetica\, Arial\, sans-serif\; font-size: 14px\; font-stretch: inherit\; left: auto\; line-height: 18.2000007629395px\; margin: 0px\; max-height: none\; max-width: none\; min-height: initial\; min-width: initial\; opacity: 1\; outline: invert none medium\; outline-offset: 0px\; overflow: visible\; padding: 0px\; position: static\; resize: none\; right: auto\; table-layout: auto\; text-overflow: clip\; top: auto\; vertical-align: baseline\; visibility: inherit\; word-break: inherit\; word-wrap: break-word\; z-index: auto\; border: none\; border-collapse: separate\; border-image-source: none\; border-image-slice: 100% 1 0\; border-image-repeat: stretch\; border-radius: 0px\; height: auto\; width: auto\; box-shadow: none\; background-image: none\; background-attachment: initial\; background-size: initial\; background-origin: initial\; background-clip: initial\; background-position: initial\; background-repeat: initial\;">Corporate Cup Run</a><span style="color: rgb(76\, 76\, 76)\; font-family: 'Helvetica Neue'\, Helvetica\, Arial\, sans-serif\; font-size: 14px\; line-height: 18.2000007629395px\;">&nbsp\;on the Saturday following this event.&nbsp\;</span><br style="box-sizing: content-box\; bottom: auto\; clear: none\; color: rgb(76\, 76\, 76)\; content: normal\; direction: inherit\; display: inline\; empty-cells: show\; float: none\; font-family: 'Helvetica Neue'\, Helvetica\, Arial\, sans-serif\; font-size: 14px\; font-stretch: inherit\; left: auto\; line-height: 18.2000007629395px\; margin: 0px\; max-height: none\; max-width: none\; min-height: initial\; min-width: initial\; opacity: 1\; outline: invert none medium\; outline-offset: 0px\; overflow: visible\; padding: 0px\; position: static\; resize: none\; right: auto\; table-layout: auto\; text-overflow: clip\; top: auto\; vertical-align: baseline\; visibility: inherit\; word-break: inherit\; word-wrap: inherit\; z-index: auto\; border: none\; border-collapse: separate\; border-image-source: none\; border-image-slice: 100% 1 0\; border-image-repeat: stretch\; border-radius: 0px\; height: auto\; width: auto\; background-image: none\; background-attachment: initial\; background-size: initial\; background-origin: initial\; background-clip: initial\; background-position: initial\; background-repeat: initial\;" />\n<br style="box-sizing: content-box\; bottom: auto\; clear: none\; color: rgb(76\, 76\, 76)\; content: normal\; direction: inherit\; display: inline\; empty-cells: show\; float: none\; font-family: 'Helvetica Neue'\, Helvetica\, Arial\, sans-serif\; font-size: 14px\; font-stretch: inherit\; left: auto\; line-height: 18.2000007629395px\; margin: 0px\; max-height: none\; max-width: none\; min-height: initial\; min-width: initial\; opacity: 1\; outline: invert none medium\; outline-offset: 0px\; overflow: visible\; padding: 0px\; position: static\; resize: none\; right: auto\; table-layout: auto\; text-overflow: clip\; top: auto\; vertical-align: baseline\; visibility: inherit\; word-break: inherit\; word-wrap: inherit\; z-index: auto\; border: none\; border-collapse: separate\; border-image-source: none\; border-image-slice: 100% 1 0\; border-image-repeat: stretch\; border-radius: 0px\; height: auto\; width: auto\; background-image: none\; background-attachment: initial\; background-size: initial\; background-origin: initial\; background-clip: initial\; background-position: initial\; background-repeat: initial\;" />\n<span style="color: rgb(76\, 76\, 76)\; font-family: 'Helvetica Neue'\, Helvetica\, Arial\, sans-serif\; font-size: 14px\; line-height: 18.2000007629395px\;">We encourage local health and fitness businesses to sponsor booths in order to showcase their products and services to the community. Sponsorship information and forms are available on the right of this page.</span><br style="box-sizing: content-box\; bottom: auto\; clear: none\; color: rgb(76\, 76\, 76)\; content: normal\; direction: inherit\; display: inline\; empty-cells: show\; float: none\; font-family: 'Helvetica Neue'\, Helvetica\, Arial\, sans-serif\; font-size: 14px\; font-stretch: inherit\; left: auto\; line-height: 18.2000007629395px\; margin: 0px\; max-height: none\; max-width: none\; min-height: initial\; min-width: initial\; opacity: 1\; outline: invert none medium\; outline-offset: 0px\; overflow: visible\; padding: 0px\; position: static\; resize: none\; right: auto\; table-layout: auto\; text-overflow: clip\; top: auto\; vertical-align: baseline\; visibility: inherit\; word-break: inherit\; word-wrap: inherit\; z-index: auto\; border: none\; border-collapse: separate\; border-image-source: none\; border-image-slice: 100% 1 0\; border-image-repeat: stretch\; border-radius: 0px\; height: auto\; width: auto\; background-image: none\; background-attachment: initial\; background-size: initial\; background-origin: initial\; background-clip: initial\; background-position: initial\; background-repeat: initial\;" />\n<span style="color: rgb(76\, 76\, 76)\; font-family: 'Helvetica Neue'\, Helvetica\, Arial\, sans-serif\; font-size: 14px\; line-height: 18.2000007629395px\;">&nbsp\;</span>
LOCATION:Southeastern Louisiana University Student Union Grand Ballroom
UID:e.1729.1126
SEQUENCE:3
DTSTAMP:20260424T103827Z
URL:https://business.tangipahoachamber.org/events/details/2nd-annual-health-fitness-expo-10-08-2015-1126
END:VEVENT

END:VCALENDAR
