BEGIN:VCALENDAR
VERSION:2.0
PRODID:-//ChamberMaster//Event Calendar 2.0//EN
METHOD:PUBLISH
X-PUBLISHED-TTL:P3D
REFRESH-INTERVAL:P3D
CALSCALE:GREGORIAN
BEGIN:VEVENT
DTSTART:20151010T130000Z
DTEND:20151010T170000Z
X-MICROSOFT-CDO-ALLDAYEVENT:FALSE
SUMMARY:2nd Annual Corporate Cup
DESCRIPTION:The Greater Hammond Chamber Corporate Cup Run will be a 4 mile run and a 1 mile fun run. Awards will go to the top five male and female runners. The Corporate Cup will go to the fastest team overall\, while other team award include the largest team and the Golden Shoe for the team with the most spirit\n\n.\n\nYour business is encouraged to create its own team. Select your team name and have your co-workers or teammates add the team name at registration.
X-ALT-DESC;FMTTYPE=text/html:<span style="font-size:14px\;"><span style="font-family:arial\;">The Greater Hammond Chamber Corporate Cup Run will be a 4 mile run and a 1 mile fun run.&nbsp\;</span></span><span style="font-family: arial\; font-size: 14px\; color: rgb(76\, 76\, 76)\; line-height: 24px\;">Awards will go to the top five male and female runners. The Corporate Cup will go to the fastest team overall\, while other team award include the largest team and the Golden Shoe for the team with the most spirit<br />\n.</span>\n\n<p style="box-sizing: border-box\; margin: 0px 0px 10px\; bottom: auto\; clear: none\; color: rgb(76\, 76\, 76)\; content: normal\; direction: inherit\; empty-cells: show\; float: none\; font-family: 'Helvetica Neue'\, Helvetica\, Arial\, sans-serif\; font-size: 14px\; font-stretch: inherit\; left: auto\; line-height: 24px\; max-height: none\; max-width: none\; min-height: initial\; min-width: initial\; opacity: 1\; outline: invert none medium\; outline-offset: 0px\; overflow: visible\; padding: 0px\; position: static\; resize: none\; right: auto\; table-layout: auto\; text-align: center\; text-overflow: clip\; top: auto\; vertical-align: baseline\; visibility: inherit\; word-break: inherit\; word-wrap: inherit\; z-index: auto\; border: none\; border-collapse: separate\; border-image-source: none\; border-image-slice: 100% 1 0\; border-image-repeat: stretch\; border-radius: 0px\; height: auto\; width: auto\; box-shadow: none\; background-image: none\; background-attachment: initial\; background-size: initial\; background-origin: initial\; background-clip: initial\; background-position: initial\; background-repeat: initial\;"><span style="font-size:14px\;"><span style="font-family:arial\;">Your business is encouraged to create its own team. Select your team name and have your co-workers or teammates add the team name at registration.</span></span></p>\n
LOCATION:Southeastern Louisiana University Friendship Circle
UID:e.1729.1127
SEQUENCE:3
DTSTAMP:20260420T122446Z
URL:https://business.tangipahoachamber.org/events/details/2nd-annual-corporate-cup-10-10-2015-1127
END:VEVENT

END:VCALENDAR
